BEGIN:VCALENDAR
VERSION:2.0
PRODID:-//Conservatoire Ville de Luxembourg//NONSGML Events //EN
CALSCALE:GREGORIAN
X-WR-CALNAME:Conservatoire Ville de Luxembourg - Events

BEGIN:VEVENT
SUMMARY:Concert de bienfaisance "Sangen ALS Challenge"
UID:http://www.conservatoire.lu/?post_type=events&#038;p=1722
DTSTAMP:20170621T161747Z
CREATED:20170530T053333Z
DTSTART:20170705T200000Z
DTEND:20170705T200000Z
DESCRIPTION:Mercredi, le 5 juillet 2017 à 20h00
Auditorium du Conservatoire


Organisateur: Wäertvollt Liewen a.s.b.l.

Afin de sensibiliser l’opinion publique au sort des personnes atteintes d’une sclérose latérale amyotrophique (SLA - ALS) et pour co
LOCATION:Auditorium du Conservatoire\, Luxembourg
ORGANIZER: 
END:VEVENT

END:VCALENDAR