BEGIN:VCALENDAR
VERSION:2.0
PRODID:-//Conservatoire Ville de Luxembourg//NONSGML Events //EN
CALSCALE:GREGORIAN
X-WR-CALNAME:Conservatoire Ville de Luxembourg - Events

BEGIN:VEVENT
SUMMARY:Jazz & Swing 175 featuring David Ascani
UID:http://www.conservatoire.lu/?post_type=events&#038;p=1665
DTSTAMP:20170621T162107Z
CREATED:20170508T084730Z
DTSTART:20171004T200000Z
DTEND:20171004T200000Z
DESCRIPTION:Mercredi, le 4 octobre 2017 à 20h00
Auditorium du Conservatoire


Organisateur: Musique Militaire Grand-Ducale



Big Band de la Musique Militaire Grand-Ducale

Direction: AdjMaj Ernie Hammes



Les tickets sont disponibles à partir du 1e
LOCATION:Auditorium du Conservatoire\, Luxembourg
ORGANIZER: 
END:VEVENT

END:VCALENDAR