BEGIN:VCALENDAR
VERSION:2.0
PRODID:-//Conservatoire Ville de Luxembourg//NONSGML Events //EN
CALSCALE:GREGORIAN
X-WR-CALNAME:Conservatoire Ville de Luxembourg - Events

BEGIN:VEVENT
SUMMARY:EUROPEAN UNION YOUTH WIND ORCHESTRA
UID:http://www.conservatoire.lu/?post_type=events&#038;p=1632
DTSTAMP:20170621T162103Z
CREATED:20170502T055243Z
DTSTART:20170720T200000Z
DTEND:20170720T200000Z
DESCRIPTION:Jeudi, le 20 juillet 2017 à 20h00
Auditorium du Conservatoire


Organisateur: UGDA



Direction: Jan COBER

L'Orchestre d'Harmonie des jeunes de l'Union Européenne (EUYWO) se réunira cet été pour sa 19ème biennale. Comme à chaque éditio
LOCATION:Auditorium du Conservatoire\, Luxembourg
ORGANIZER: 
END:VEVENT

END:VCALENDAR