BEGIN:VCALENDAR
VERSION:2.0
PRODID:-//Conservatoire Ville de Luxembourg//NONSGML Events //EN
CALSCALE:GREGORIAN
X-WR-CALNAME:Conservatoire Ville de Luxembourg - Events

BEGIN:VEVENT
SUMMARY:Concert ActArt : Frühlingsträume – Trio de bassetto
UID:http://www.conservatoire.lu/?post_type=events&#038;p=1623
DTSTAMP:20170621T161708Z
CREATED:20170425T054754Z
DTSTART:20170621T200000Z
DTEND:20170621T200000Z
DESCRIPTION:Mercredi, le 21 juin 2017 à 20h
Grande Salle du Cercle Cité


Organisateur: CVL



1ère partie : Frühlingsträume

Stéphanie POCHET (clarinette)
Emmanuelle BIZIEN (piano)
Hélène BERNARDY (chant)

L. SPOHR : 6 deutsche Lieder pour c
LOCATION:Cercle\, Luxembourg
ORGANIZER: 
END:VEVENT

END:VCALENDAR